BEGIN:VCALENDAR
VERSION:2.0
PRODID:-//Tukios.com/
BEGIN:VEVENT
UID:8a30efaa-e5d8-4980-8ab1-a618223008b6@www.arensbergpruett.com
DTSTAMP:20260420T080015Z
DTSTART:20260417T160000Z
DTEND:20260417T170000Z
SUMMARY:Mass of Christian Burial
DESCRIPTION:
URL:https://www.arensbergpruett.com/obituaries/mary-mcclintock
LOCATION: 1000 North 2nd Street  Atchison KS 66002
GEO:39.5722848;-95.114936
END:VEVENT
END:VCALENDAR