BEGIN:VCALENDAR
VERSION:2.0
PRODID:-//Tukios.com/
BEGIN:VEVENT
UID:6d23473b-0d58-403b-993a-3f3795214317@www.arensbergpruett.com
DTSTAMP:20260420T084142Z
DTSTART:20260417T150000Z
DTEND:20260417T160000Z
SUMMARY:Visitation
DESCRIPTION:
URL:https://www.arensbergpruett.com/obituaries/mary-mcclintock
LOCATION:St. Benedict Church 1000 North 2nd Street  Atchison KS 66002
GEO:39.5722848;-95.114936
END:VEVENT
END:VCALENDAR